BEGIN:VCALENDAR
VERSION:2.0
PRODID:-//wp-events-plugin.com//7.2.3.1//EN
TZID:Europe/Paris
X-WR-TIMEZONE:Europe/Paris
BEGIN:VEVENT
UID:1@hnicolas.com
DTSTART;TZID=Europe/Paris:20221130T200000
DTEND;TZID=Europe/Paris:20221130T220000
DTSTAMP:20221129T210651Z
URL:https://www.hnicolas.com/press/events/ag-infomedia/
SUMMARY:AG InfoMedia
DESCRIPTION:Notre Assemblée Générale !
END:VEVENT
BEGIN:VTIMEZONE
TZID:Europe/Paris
X-LIC-LOCATION:Europe/Paris
BEGIN:STANDARD
DTSTART:20221030T020000
TZOFFSETFROM:+0200
TZOFFSETTO:+0100
TZNAME:CET
END:STANDARD
END:VTIMEZONE
END:VCALENDAR