BEGIN:VCALENDAR
VERSION:2.0
PRODID:-//wp-events-plugin.com//7.2.3.1//EN
TZID:Europe/Paris
X-WR-TIMEZONE:Europe/Paris
BEGIN:VEVENT
UID:2@hnicolas.com
DTSTART;TZID=Europe/Paris;VALUE=DATE:20221206
DTEND;TZID=Europe/Paris;VALUE=DATE:20221207
DTSTAMP:20221024T211624Z
URL:https://www.hnicolas.com/press/events/saint-nicolas/
SUMMARY:Saint NICOLAS
DESCRIPTION:hihi
END:VEVENT
BEGIN:VTIMEZONE
TZID:Europe/Paris
X-LIC-LOCATION:Europe/Paris
BEGIN:STANDARD
DTSTART:20221030T020000
TZOFFSETFROM:+0200
TZOFFSETTO:+0100
TZNAME:CET
END:STANDARD
END:VTIMEZONE
END:VCALENDAR